BEGIN:VCALENDAR
VERSION:2.0
PRODID:-//BEREC Stakeholder Forum - ECPv5.4.0.2//NONSGML v1.0//EN
CALSCALE:GREGORIAN
METHOD:PUBLISH
X-WR-CALNAME:BEREC Stakeholder Forum
X-ORIGINAL-URL:https://berec-stakeholder-forum.eu
X-WR-CALDESC:Events for BEREC Stakeholder Forum
BEGIN:VTIMEZONE
TZID:Europe/Helsinki
BEGIN:DAYLIGHT
TZOFFSETFROM:+0200
TZOFFSETTO:+0300
TZNAME:EEST
DTSTART:20210328T010000
END:DAYLIGHT
BEGIN:STANDARD
TZOFFSETFROM:+0300
TZOFFSETTO:+0200
TZNAME:EET
DTSTART:20211031T010000
END:STANDARD
END:VTIMEZONE
BEGIN:VEVENT
DTSTART;TZID=Europe/Helsinki:20211028T080000
DTEND;TZID=Europe/Helsinki:20211028T180000
DTSTAMP:20211006T102716
CREATED:20210817T164139Z
LAST-MODIFIED:20210826T073106Z
UID:2776-1635408000-1635444000@berec-stakeholder-forum.eu
SUMMARY:10th BEREC Stakeholder Forum
DESCRIPTION: 
URL:https://berec-stakeholder-forum.eu/event/event-test/
LOCATION:Brussels\, Belgium
CATEGORIES:Technology
END:VEVENT
END:VCALENDAR